BEGIN:VCALENDAR
VERSION:2.0
PRODID:-//Verkehrsgesellschaft Rosenheim
CALSCALE:GREGORIAN
METHOD:PUBLISH
X-WR-CALNAME:Verkehrsgesellschaft Rosenheim
X-ORIGINAL-URL:https://www.stadtverkehr-rosenheim.de/produkt/hans-zimmer-musik-bei-kerzenschein/
X-WR-CALDESC:Hans Zimmer Musik bei Kerzenschein
BEGIN:VTIMEZONE
TZID:Europe/Helsinki
END:VTIMEZONE
BEGIN:VEVENT
DTSTART;TZID=Europe/Helsinki:20260406T190000
DTEND;TZID=Europe/Helsinki:20260406T210000
DTSTAMP:20260420T082118
UID:8880-info@geniuxx.de
SUMMARY:Hans Zimmer Musik bei Kerzenschein
DESCRIPTION:Hans Zimmer Musik bei Kerzenschein Filmkonzert mit Musik von Hans Zimmer bei Kerzenschein in Bad Aibling Verpassen Sie nicht diesen unvergesslichen Abend voll der schönsten Filmmusik, bei dem die Melodien eines der größten Filmkomponisten unserer Zeit - Hans Zimmer - von einem international anerkannten Pianisten zum Leben erweckt werden. Der Schein hunderter Kerzen schafft dabei eine einzigartige Konzertatmosphäre.
URL:https://www.stadtverkehr-rosenheim.de/produkt/hans-zimmer-musik-bei-kerzenschein/
LOCATION:Kurhaus, Bad Aibling
END:VEVENT
END:VCALENDAR
