BEGIN:VCALENDAR
VERSION:2.0
PRODID:-//Verkehrsgesellschaft Rosenheim
CALSCALE:GREGORIAN
METHOD:PUBLISH
X-WR-CALNAME:Verkehrsgesellschaft Rosenheim
X-ORIGINAL-URL:https://www.stadtverkehr-rosenheim.de/produkt/bridgerton-musik-kerzenschein/
X-WR-CALDESC:Bridgerton Musik &#038; Kerzenschein
BEGIN:VTIMEZONE
TZID:Europe/Helsinki
END:VTIMEZONE
BEGIN:VEVENT
DTSTART;TZID=Europe/Helsinki:20260521T190000
DTEND;TZID=Europe/Helsinki:20260521T213000
DTSTAMP:20260420T082218
UID:8929-info@geniuxx.de
SUMMARY:Bridgerton Musik & Kerzenschein
DESCRIPTION:Bridgerton Musik &amp; Kerzenschein Erlebe die zauberhafte Musik von Bridgerton live bei einem stimmungsvollen Konzert im Kerzenschein. Lass dich von klassischen Klängen verzaubern! Genieße einen Abend voller Eleganz und Romantik mit der bezaubernden Musik aus der beliebten Serie Bridgerton. Das talentierte Streichquartett bringt die eindrucksvollen Melodien zum Leben und entführt dich in eine Welt voller Anmut und Stil. Der Veranstaltungsort erstrahlt im warmen Schein unzähliger Kerzen, die für eine ganz besondere Atmosphäre sorgen. Die sanften Lichtspiele harmonieren perfekt mit den klassischen Klängen und schaffen ein einmaliges Erlebnis für alle Sinne. Lass dich von den meisterhaften Interpretationen der Musiker in die glamouröse Welt des Regency Londons entführen. Die vertrauten Melodien werden durch das Zusammenspiel der Streicher zu einem intensiven Hörerlebnis, das die emotionale Tiefe der Serie widerspiegelt. Ob du ein treuer Fan der Serie bist oder einfach nur einen besonderen musikalischen Abend erleben möchtest – dieses Konzert bietet dir eine wunderbare Gelegenheit, die Magie von Bridgerton auf eine neue Art zu erleben.
URL:https://www.stadtverkehr-rosenheim.de/produkt/bridgerton-musik-kerzenschein/
LOCATION:Kurhaus, Bad Aibling
END:VEVENT
END:VCALENDAR
