BEGIN:VCALENDAR
VERSION:2.0
PRODID:-//Verkehrsgesellschaft Rosenheim
CALSCALE:GREGORIAN
METHOD:PUBLISH
X-WR-CALNAME:Verkehrsgesellschaft Rosenheim
X-ORIGINAL-URL:https://www.stadtverkehr-rosenheim.de/produkt/auf-a-wort/
X-WR-CALDESC:Auf a Wort
BEGIN:VTIMEZONE
TZID:Europe/Helsinki
END:VTIMEZONE
BEGIN:VEVENT
DTSTART;TZID=Europe/Helsinki:20261213T180000
DTEND;TZID=Europe/Helsinki:20261213T200000
DTSTAMP:20260420T082116
UID:8960-info@geniuxx.de
SUMMARY:Auf a Wort
DESCRIPTION:**Auf A Wort - „Austropop - X-Mas-Special“** **Das Austropop-Weihnachtskonzert** **„Auf A Wort“ lädt zu einem besonderen vorweihnachtlichen Konzerterlebnis ein:** **Unter dem Titel** **„Austropop X-Mas Special“** **präsentiert die Band ein festliches, stimmungsvolles, besinnliches, emotionales aber natürlich auch kurzweiliges, mitreißendes und unterhaltsames Programm mit Liedern u.a. von Wolfgang Ambros, Hubert von Goisern, STS, Gert Steinbäcker, Edmund &amp; Chris Steger, SoloZuViert, Josh und Co.** **Austropop trifft Weihnachten!** **Das darf man sich nicht entgehen lassen!**
URL:https://www.stadtverkehr-rosenheim.de/produkt/auf-a-wort/
LOCATION:Ballhaus Rosenheim
END:VEVENT
END:VCALENDAR
